BEGIN:VCALENDAR
VERSION:2.0
PRODID:-//Women&#039;s Habitat - ECPv6.15.16.1//NONSGML v1.0//EN
CALSCALE:GREGORIAN
METHOD:PUBLISH
X-WR-CALNAME:Women&#039;s Habitat
X-ORIGINAL-URL:https://womenshabitat.ca
X-WR-CALDESC:Events for Women&#039;s Habitat
REFRESH-INTERVAL;VALUE=DURATION:PT1H
X-Robots-Tag:noindex
X-PUBLISHED-TTL:PT1H
BEGIN:VTIMEZONE
TZID:America/Toronto
BEGIN:DAYLIGHT
TZOFFSETFROM:-0500
TZOFFSETTO:-0400
TZNAME:EDT
DTSTART:20250309T070000
END:DAYLIGHT
BEGIN:STANDARD
TZOFFSETFROM:-0400
TZOFFSETTO:-0500
TZNAME:EST
DTSTART:20251102T060000
END:STANDARD
BEGIN:DAYLIGHT
TZOFFSETFROM:-0500
TZOFFSETTO:-0400
TZNAME:EDT
DTSTART:20260308T070000
END:DAYLIGHT
BEGIN:STANDARD
TZOFFSETFROM:-0400
TZOFFSETTO:-0500
TZNAME:EST
DTSTART:20261101T060000
END:STANDARD
BEGIN:DAYLIGHT
TZOFFSETFROM:-0500
TZOFFSETTO:-0400
TZNAME:EDT
DTSTART:20270314T070000
END:DAYLIGHT
BEGIN:STANDARD
TZOFFSETFROM:-0400
TZOFFSETTO:-0500
TZNAME:EST
DTSTART:20271107T060000
END:STANDARD
END:VTIMEZONE
BEGIN:VEVENT
DTSTART;TZID=America/Toronto:20260421T160000
DTEND;TZID=America/Toronto:20260421T173000
DTSTAMP:20260421T060513
CREATED:20260226T205204Z
LAST-MODIFIED:20260226T205204Z
UID:10000560-1776787200-1776792600@womenshabitat.ca
SUMMARY:B.O.Y. (for boys)- Session II
DESCRIPTION:B.O.Y. (Because of You) allows the participant to be the centre of change; reinforces accountability\, and builds foundations to be comprehensive.
URL:https://womenshabitat.ca/event/b-o-y-for-boys-session-ii/2026-04-21/
END:VEVENT
BEGIN:VEVENT
DTSTART;TZID=America/Toronto:20260428T160000
DTEND;TZID=America/Toronto:20260428T173000
DTSTAMP:20260421T060513
CREATED:20260226T205204Z
LAST-MODIFIED:20260226T205204Z
UID:10000561-1777392000-1777397400@womenshabitat.ca
SUMMARY:B.O.Y. (for boys)- Session II
DESCRIPTION:B.O.Y. (Because of You) allows the participant to be the centre of change; reinforces accountability\, and builds foundations to be comprehensive.
URL:https://womenshabitat.ca/event/b-o-y-for-boys-session-ii/2026-04-28/
END:VEVENT
BEGIN:VEVENT
DTSTART;TZID=America/Toronto:20260505T160000
DTEND;TZID=America/Toronto:20260505T173000
DTSTAMP:20260421T060513
CREATED:20260226T205204Z
LAST-MODIFIED:20260226T205204Z
UID:10000562-1777996800-1778002200@womenshabitat.ca
SUMMARY:B.O.Y. (for boys)- Session II
DESCRIPTION:B.O.Y. (Because of You) allows the participant to be the centre of change; reinforces accountability\, and builds foundations to be comprehensive.
URL:https://womenshabitat.ca/event/b-o-y-for-boys-session-ii/2026-05-05/
END:VEVENT
BEGIN:VEVENT
DTSTART;TZID=America/Toronto:20260512T160000
DTEND;TZID=America/Toronto:20260512T173000
DTSTAMP:20260421T060513
CREATED:20260226T205204Z
LAST-MODIFIED:20260226T205204Z
UID:10000563-1778601600-1778607000@womenshabitat.ca
SUMMARY:B.O.Y. (for boys)- Session II
DESCRIPTION:B.O.Y. (Because of You) allows the participant to be the centre of change; reinforces accountability\, and builds foundations to be comprehensive.
URL:https://womenshabitat.ca/event/b-o-y-for-boys-session-ii/2026-05-12/
END:VEVENT
BEGIN:VEVENT
DTSTART;TZID=America/Toronto:20260519T160000
DTEND;TZID=America/Toronto:20260519T173000
DTSTAMP:20260421T060513
CREATED:20260226T205204Z
LAST-MODIFIED:20260226T205204Z
UID:10000564-1779206400-1779211800@womenshabitat.ca
SUMMARY:B.O.Y. (for boys)- Session II
DESCRIPTION:B.O.Y. (Because of You) allows the participant to be the centre of change; reinforces accountability\, and builds foundations to be comprehensive.
URL:https://womenshabitat.ca/event/b-o-y-for-boys-session-ii/2026-05-19/
END:VEVENT
BEGIN:VEVENT
DTSTART;TZID=America/Toronto:20260526T160000
DTEND;TZID=America/Toronto:20260526T173000
DTSTAMP:20260421T060513
CREATED:20260226T205204Z
LAST-MODIFIED:20260226T205204Z
UID:10000565-1779811200-1779816600@womenshabitat.ca
SUMMARY:B.O.Y. (for boys)- Session II
DESCRIPTION:B.O.Y. (Because of You) allows the participant to be the centre of change; reinforces accountability\, and builds foundations to be comprehensive.
URL:https://womenshabitat.ca/event/b-o-y-for-boys-session-ii/2026-05-26/
END:VEVENT
BEGIN:VEVENT
DTSTART;TZID=America/Toronto:20260602T160000
DTEND;TZID=America/Toronto:20260602T173000
DTSTAMP:20260421T060513
CREATED:20260226T205204Z
LAST-MODIFIED:20260226T205204Z
UID:10000566-1780416000-1780421400@womenshabitat.ca
SUMMARY:B.O.Y. (for boys)- Session II
DESCRIPTION:B.O.Y. (Because of You) allows the participant to be the centre of change; reinforces accountability\, and builds foundations to be comprehensive.
URL:https://womenshabitat.ca/event/b-o-y-for-boys-session-ii/2026-06-02/
END:VEVENT
BEGIN:VEVENT
DTSTART;TZID=America/Toronto:20260609T160000
DTEND;TZID=America/Toronto:20260609T173000
DTSTAMP:20260421T060513
CREATED:20260226T205204Z
LAST-MODIFIED:20260226T205204Z
UID:10000567-1781020800-1781026200@womenshabitat.ca
SUMMARY:B.O.Y. (for boys)- Session II
DESCRIPTION:B.O.Y. (Because of You) allows the participant to be the centre of change; reinforces accountability\, and builds foundations to be comprehensive.
URL:https://womenshabitat.ca/event/b-o-y-for-boys-session-ii/2026-06-09/
END:VEVENT
BEGIN:VEVENT
DTSTART;TZID=America/Toronto:20260616T160000
DTEND;TZID=America/Toronto:20260616T173000
DTSTAMP:20260421T060513
CREATED:20260226T205204Z
LAST-MODIFIED:20260226T205204Z
UID:10000568-1781625600-1781631000@womenshabitat.ca
SUMMARY:B.O.Y. (for boys)- Session II
DESCRIPTION:B.O.Y. (Because of You) allows the participant to be the centre of change; reinforces accountability\, and builds foundations to be comprehensive.
URL:https://womenshabitat.ca/event/b-o-y-for-boys-session-ii/2026-06-16/
END:VEVENT
END:VCALENDAR